BEGIN:VCALENDAR
PRODID:-//Microsoft Corporation//Outlook 12.0 MIMEDIR//EN
VERSION:1.0
BEGIN:VEVENT
DTSTART:20251211T090000Z
DTEND:20251211T120000Z
LOCATION:Avasa, Hyderabad 
UID:040000008200E00074C5B7101A82E00800000000E09778CC8A2FCD01000000000000000
	010000000A616AC829938554DA102762D344287C7
DESCRIPTION;X-ALT-DESC;FMTTYPE=text/html:Hi, \n \nPlease find the event details below. \nTopic: Indian Pharmaceutical Industry at a Crossroads: Navigating Global Challenges and Local Opportunities \nVenue:Avasa, Hyderabad  \nDate: 11 Dec 2025 \nTime: 14:30\n\n\nThanks and Regards\nICRA Team\nhttps://www.icra.in
=0D=0A
SUMMARY:Indian Pharmaceutical Industry at a Crossroads: Navigating Global Challenges and Local Opportunities
PRIORITY:3
END:VEVENT
END:VCALENDAR